BEGIN:VCALENDAR
VERSION:2.0
PRODID:-//St. Hubertus Schützenbruderschaft - ECPv6.10.1.1//NONSGML v1.0//EN
CALSCALE:GREGORIAN
METHOD:PUBLISH
X-ORIGINAL-URL:https://www.hubertus-avenwedde.de
X-WR-CALDESC:Veranstaltungen für St. Hubertus Schützenbruderschaft
REFRESH-INTERVAL;VALUE=DURATION:PT1H
X-Robots-Tag:noindex
X-PUBLISHED-TTL:PT1H
BEGIN:VTIMEZONE
TZID:Europe/Berlin
BEGIN:DAYLIGHT
TZOFFSETFROM:+0100
TZOFFSETTO:+0200
TZNAME:CEST
DTSTART:20260329T010000
END:DAYLIGHT
BEGIN:STANDARD
TZOFFSETFROM:+0200
TZOFFSETTO:+0100
TZNAME:CET
DTSTART:20261025T010000
END:STANDARD
END:VTIMEZONE
BEGIN:VEVENT
DTSTART;VALUE=DATE:20260604
DTEND;VALUE=DATE:20260605
DTSTAMP:20260421T122053
CREATED:20251215T133809Z
LAST-MODIFIED:20251215T133809Z
UID:12246-1780531200-1780617599@www.hubertus-avenwedde.de
SUMMARY:Fronleichnamsprozession
DESCRIPTION:
URL:https://www.hubertus-avenwedde.de/event/fronleichnamsprozession-2/
LOCATION:St. Friedrich Kirche Friedrichsdorf\, Avenwedder Straße 515\, Gütersloh\, Friedrichsdorf\, 33335\, Deutschland
CATEGORIES:Bruderschaft,Damenkorps,Jungschützen,Königswache,Schießclub
END:VEVENT
BEGIN:VEVENT
DTSTART;VALUE=DATE:20260613
DTEND;VALUE=DATE:20260614
DTSTAMP:20260421T122053
CREATED:20251215T133935Z
LAST-MODIFIED:20251215T133935Z
UID:12248-1781308800-1781395199@www.hubertus-avenwedde.de
SUMMARY:Diözesanjungschützentag in Natzungen
DESCRIPTION:
URL:https://www.hubertus-avenwedde.de/event/dioezesanjungschuetzentag-in-natzungen/
CATEGORIES:Bruderschaft,Jungschützen
END:VEVENT
BEGIN:VEVENT
DTSTART;VALUE=DATE:20260620
DTEND;VALUE=DATE:20260621
DTSTAMP:20260421T122053
CREATED:20251215T134105Z
LAST-MODIFIED:20251215T134154Z
UID:12251-1781913600-1781999999@www.hubertus-avenwedde.de
SUMMARY:Schützenfest St. Georg Dreiländereck
DESCRIPTION:
URL:https://www.hubertus-avenwedde.de/event/schuetzenfest-st-georg-dreilaendereck-2/
CATEGORIES:Bruderschaft,Damenkorps,Jungschützen,Königswache,Schießclub
END:VEVENT
END:VCALENDAR