BEGIN:VCALENDAR
VERSION:2.0
PRODID:-//St. Hubertus Schützenbruderschaft - ECPv6.10.1.1//NONSGML v1.0//EN
CALSCALE:GREGORIAN
METHOD:PUBLISH
X-ORIGINAL-URL:https://www.hubertus-avenwedde.de
X-WR-CALDESC:Veranstaltungen für St. Hubertus Schützenbruderschaft
REFRESH-INTERVAL;VALUE=DURATION:PT1H
X-Robots-Tag:noindex
X-PUBLISHED-TTL:PT1H
BEGIN:VTIMEZONE
TZID:Europe/Berlin
BEGIN:DAYLIGHT
TZOFFSETFROM:+0100
TZOFFSETTO:+0200
TZNAME:CEST
DTSTART:20260329T010000
END:DAYLIGHT
BEGIN:STANDARD
TZOFFSETFROM:+0200
TZOFFSETTO:+0100
TZNAME:CET
DTSTART:20261025T010000
END:STANDARD
END:VTIMEZONE
BEGIN:VEVENT
DTSTART;TZID=Europe/Berlin:20260103T193000
DTEND;TZID=Europe/Berlin:20260103T193000
DTSTAMP:20260421T122054
CREATED:20251215T131510Z
LAST-MODIFIED:20251215T131510Z
UID:12221-1767468600-1767468600@www.hubertus-avenwedde.de
SUMMARY:Skatturnier DJK Blau Weiß Avenwedde
DESCRIPTION:
URL:https://www.hubertus-avenwedde.de/event/skatturnier-djk-blau-weiss-avenwedde/
END:VEVENT
BEGIN:VEVENT
DTSTART;TZID=Europe/Berlin:20260110T100000
DTEND;TZID=Europe/Berlin:20260110T130000
DTSTAMP:20260421T122054
CREATED:20251215T131811Z
LAST-MODIFIED:20251215T131811Z
UID:12224-1768039200-1768050000@www.hubertus-avenwedde.de
SUMMARY:Weihnachtsbaumsammelaktion der Jungschützen
DESCRIPTION:
URL:https://www.hubertus-avenwedde.de/event/weihnachtsbaumsammelaktion-der-jungschuetzen-2/
CATEGORIES:Bruderschaft,Jungschützen
END:VEVENT
BEGIN:VEVENT
DTSTART;TZID=Europe/Berlin:20260117T190000
DTEND;TZID=Europe/Berlin:20260117T190000
DTSTAMP:20260421T122054
CREATED:20251215T132020Z
LAST-MODIFIED:20251215T132020Z
UID:12226-1768676400-1768676400@www.hubertus-avenwedde.de
SUMMARY:St. Hubertus Winter-Nacht
DESCRIPTION:
URL:https://www.hubertus-avenwedde.de/event/st-hubertus-winter-nacht-2/
LOCATION:Schützenheim Hubertus Avenwedde
CATEGORIES:Bruderschaft,Damenkorps,Jungschützen,Königswache,Schießclub
END:VEVENT
END:VCALENDAR