BEGIN:VCALENDAR
VERSION:2.0
PRODID:-//St. Hubertus Schützenbruderschaft - ECPv6.10.1.1//NONSGML v1.0//EN
CALSCALE:GREGORIAN
METHOD:PUBLISH
X-ORIGINAL-URL:https://www.hubertus-avenwedde.de
X-WR-CALDESC:Veranstaltungen für St. Hubertus Schützenbruderschaft
REFRESH-INTERVAL;VALUE=DURATION:PT1H
X-Robots-Tag:noindex
X-PUBLISHED-TTL:PT1H
BEGIN:VTIMEZONE
TZID:Europe/Berlin
BEGIN:DAYLIGHT
TZOFFSETFROM:+0100
TZOFFSETTO:+0200
TZNAME:CEST
DTSTART:20250330T010000
END:DAYLIGHT
BEGIN:STANDARD
TZOFFSETFROM:+0200
TZOFFSETTO:+0100
TZNAME:CET
DTSTART:20251026T010000
END:STANDARD
END:VTIMEZONE
BEGIN:VEVENT
DTSTART;VALUE=DATE:20251108
DTEND;VALUE=DATE:20251109
DTSTAMP:20260425T181830
CREATED:20250103T154116Z
LAST-MODIFIED:20250103T154116Z
UID:10920-1762560000-1762646399@www.hubertus-avenwedde.de
SUMMARY:Bruderschaftstag
DESCRIPTION:
URL:https://www.hubertus-avenwedde.de/event/bruderschaftstag/
CATEGORIES:Bruderschaft,Damenkorps,Jungschützen,Königswache,Schießclub
END:VEVENT
BEGIN:VEVENT
DTSTART;VALUE=DATE:20251109
DTEND;VALUE=DATE:20251110
DTSTAMP:20260425T181830
CREATED:20250103T154430Z
LAST-MODIFIED:20250103T154430Z
UID:10922-1762646400-1762732799@www.hubertus-avenwedde.de
SUMMARY:Jahreskpnzert Jugendmusikkorps Avenwedde
DESCRIPTION:
URL:https://www.hubertus-avenwedde.de/event/jahreskpnzert-jugendmusikkorps-avenwedde/
CATEGORIES:Bruderschaft,Damenkorps,Jungschützen,Königswache,Schießclub
END:VEVENT
BEGIN:VEVENT
DTSTART;TZID=Europe/Berlin:20251116T080000
DTEND;TZID=Europe/Berlin:20251116T170000
DTSTAMP:20260425T181830
CREATED:20250103T154552Z
LAST-MODIFIED:20250103T154552Z
UID:10924-1763280000-1763312400@www.hubertus-avenwedde.de
SUMMARY:Volkstrauertag
DESCRIPTION:
URL:https://www.hubertus-avenwedde.de/event/volkstrauertag/
CATEGORIES:Bruderschaft,Damenkorps,Jungschützen,Königswache,Schießclub
END:VEVENT
BEGIN:VEVENT
DTSTART;VALUE=DATE:20251130
DTEND;VALUE=DATE:20251201
DTSTAMP:20260425T181830
CREATED:20250103T154703Z
LAST-MODIFIED:20250103T155503Z
UID:10926-1764460800-1764547199@www.hubertus-avenwedde.de
SUMMARY:Sparfest
DESCRIPTION:
URL:https://www.hubertus-avenwedde.de/event/sparfest/
CATEGORIES:Bruderschaft,Damenkorps,Jungschützen,Königswache,Schießclub
END:VEVENT
END:VCALENDAR