BEGIN:VCALENDAR
VERSION:2.0
PRODID:-//St. Hubertus Schützenbruderschaft - ECPv6.10.1.1//NONSGML v1.0//EN
CALSCALE:GREGORIAN
METHOD:PUBLISH
X-ORIGINAL-URL:https://www.hubertus-avenwedde.de
X-WR-CALDESC:Veranstaltungen für St. Hubertus Schützenbruderschaft
REFRESH-INTERVAL;VALUE=DURATION:PT1H
X-Robots-Tag:noindex
X-PUBLISHED-TTL:PT1H
BEGIN:VTIMEZONE
TZID:Europe/Berlin
BEGIN:DAYLIGHT
TZOFFSETFROM:+0100
TZOFFSETTO:+0200
TZNAME:CEST
DTSTART:20250330T010000
END:DAYLIGHT
BEGIN:STANDARD
TZOFFSETFROM:+0200
TZOFFSETTO:+0100
TZNAME:CET
DTSTART:20251026T010000
END:STANDARD
END:VTIMEZONE
BEGIN:VEVENT
DTSTART;VALUE=DATE:20251001
DTEND;VALUE=DATE:20251101
DTSTAMP:20260425T234545
CREATED:20250103T153347Z
LAST-MODIFIED:20250103T153347Z
UID:10909-1759276800-1761955199@www.hubertus-avenwedde.de
SUMMARY:Vereinsmeisterschaften
DESCRIPTION:
URL:https://www.hubertus-avenwedde.de/event/vereinsmeisterschaften-3/
LOCATION:Schießstand Hubertus-Avenwedde
CATEGORIES:Bruderschaft,Schießclub
END:VEVENT
BEGIN:VEVENT
DTSTART;VALUE=DATE:20251002
DTEND;VALUE=DATE:20251003
DTSTAMP:20260425T234545
CREATED:20250103T153510Z
LAST-MODIFIED:20250103T153510Z
UID:10911-1759363200-1759449599@www.hubertus-avenwedde.de
SUMMARY:Helferfest
DESCRIPTION:
URL:https://www.hubertus-avenwedde.de/event/helferfest/
LOCATION:Schützenheim Hubertus Avenwedde
CATEGORIES:Bruderschaft,Damenkorps,Jungschützen,Königswache,Schießclub
END:VEVENT
BEGIN:VEVENT
DTSTART;TZID=Europe/Berlin:20251010T180000
DTEND;TZID=Europe/Berlin:20251010T180000
DTSTAMP:20260425T234545
CREATED:20250103T153713Z
LAST-MODIFIED:20250103T153713Z
UID:10913-1760119200-1760119200@www.hubertus-avenwedde.de
SUMMARY:Maibaumeinholen
DESCRIPTION:
URL:https://www.hubertus-avenwedde.de/event/maibaumeinholen/
LOCATION:Gelände der Stiftung Altewischer
CATEGORIES:Bruderschaft,Damenkorps,Jungschützen,Königswache,Schießclub
END:VEVENT
BEGIN:VEVENT
DTSTART;VALUE=DATE:20251025
DTEND;VALUE=DATE:20251026
DTSTAMP:20260425T234545
CREATED:20250103T153841Z
LAST-MODIFIED:20250103T153841Z
UID:10916-1761350400-1761436799@www.hubertus-avenwedde.de
SUMMARY:Bezirkskönigsball
DESCRIPTION:
URL:https://www.hubertus-avenwedde.de/event/bezirkskoenigsball/
CATEGORIES:Bruderschaft,Damenkorps,Jungschützen,Königswache,Schießclub
END:VEVENT
BEGIN:VEVENT
DTSTART;VALUE=DATE:20251026
DTEND;VALUE=DATE:20251027
DTSTAMP:20260425T234545
CREATED:20250103T154003Z
LAST-MODIFIED:20250103T154003Z
UID:10918-1761436800-1761523199@www.hubertus-avenwedde.de
SUMMARY:100 Jahre DJK Blau Weiß Avenwedde
DESCRIPTION:
URL:https://www.hubertus-avenwedde.de/event/100-jahre-djk-blau-weiss-avenwedde/
CATEGORIES:Bruderschaft,Damenkorps,Jungschützen,Königswache,Schießclub
END:VEVENT
END:VCALENDAR