BEGIN:VCALENDAR
VERSION:2.0
PRODID:-//St. Hubertus Schützenbruderschaft - ECPv6.10.1.1//NONSGML v1.0//EN
CALSCALE:GREGORIAN
METHOD:PUBLISH
X-WR-CALNAME:St. Hubertus Schützenbruderschaft
X-ORIGINAL-URL:https://www.hubertus-avenwedde.de
X-WR-CALDESC:Veranstaltungen für St. Hubertus Schützenbruderschaft
REFRESH-INTERVAL;VALUE=DURATION:PT1H
X-Robots-Tag:noindex
X-PUBLISHED-TTL:PT1H
BEGIN:VTIMEZONE
TZID:Europe/Berlin
BEGIN:DAYLIGHT
TZOFFSETFROM:+0100
TZOFFSETTO:+0200
TZNAME:CEST
DTSTART:20260329T010000
END:DAYLIGHT
BEGIN:STANDARD
TZOFFSETFROM:+0200
TZOFFSETTO:+0100
TZNAME:CET
DTSTART:20261025T010000
END:STANDARD
END:VTIMEZONE
BEGIN:VEVENT
DTSTART;TZID=Europe/Berlin:20260103T193000
DTEND;TZID=Europe/Berlin:20260103T193000
DTSTAMP:20260423T170901
CREATED:20251215T131510Z
LAST-MODIFIED:20251215T131510Z
UID:12221-1767468600-1767468600@www.hubertus-avenwedde.de
SUMMARY:Skatturnier DJK Blau Weiß Avenwedde
DESCRIPTION:
URL:https://www.hubertus-avenwedde.de/event/skatturnier-djk-blau-weiss-avenwedde/
END:VEVENT
END:VCALENDAR